BEGIN:VCALENDAR
VERSION:2.0
PRODID:-//SMD Konstanz - ECPv5.10.1//NONSGML v1.0//EN
CALSCALE:GREGORIAN
METHOD:PUBLISH
X-WR-CALNAME:SMD Konstanz
X-ORIGINAL-URL:http://www.smd-konstanz.de
X-WR-CALDESC:Veranstaltungen für SMD Konstanz
BEGIN:VTIMEZONE
TZID:Europe/Berlin
BEGIN:DAYLIGHT
TZOFFSETFROM:+0100
TZOFFSETTO:+0200
TZNAME:CEST
DTSTART:20230326T010000
END:DAYLIGHT
BEGIN:STANDARD
TZOFFSETFROM:+0200
TZOFFSETTO:+0100
TZNAME:CET
DTSTART:20231029T010000
END:STANDARD
END:VTIMEZONE
BEGIN:VEVENT
DTSTART;TZID=Europe/Berlin:20230131T190000
DTEND;TZID=Europe/Berlin:20230131T213000
DTSTAMP:20260421T124016
CREATED:20220404T092336Z
LAST-MODIFIED:20230227T150800Z
UID:1637-1675191600-1675200600@www.smd-konstanz.de
SUMMARY:Mini-Chorprojekt/ Chillerlounge
DESCRIPTION:Hey ihr! 🙂 \nNächsten Dienstag\, am 31.01. findet der vorletzte SMD Abend in diesem Semester statt.\nEs wird eine Chiller Lounge geben\, in der man Gemeinschaft genießen und Spiele spielen kann. 🎲😇 Wenn ihr gerade mitten in der Klausurenphase steckt oder einfach einen Abend zum entspannen braucht\, dann kommt gerne vorbei. \n  \nAlternativ könnt ihr bei unserem Mini-Chorprojekt mitmachen. 🎤🥰 Wir werden zusammen ein bis zwei mehrstimmige Songs einstudieren und diese beim Semesterabschluss (am 07.02.) aufführen. Wenn du also Freude am Singen hast (du musst kein erfahrener Sänger sein)\, herzliche Einladung! Tretet gerne noch der Gruppe bei (Link unten)\, damit wir ungefähr wissen\, wie viele wir sind.\nPS: je größer wir sind\, desto cooler wird es. 😉 \nLos geht es um 19:00 Uhr in der Bapti (Lorettosteig 3). Wer hat\, darf gerne noch Spiele einpacken. Bringt gerne auch Kommilitonen und Freunde mit! 🙂 \nWir freuen uns auf euch ☺️ \n  \n 
URL:http://www.smd-konstanz.de/event/mini-chorprojekt-chillerlounge/
LOCATION:Baptisten Konstanz\, Lorettosteig 3\, Konstanz\, 78464\, Deutschland
CATEGORIES:Großgruppentreffen
END:VEVENT
END:VCALENDAR