BEGIN:VCALENDAR
VERSION:2.0
PRODID:-//SMD Konstanz - ECPv5.10.1//NONSGML v1.0//EN
CALSCALE:GREGORIAN
METHOD:PUBLISH
X-WR-CALNAME:SMD Konstanz
X-ORIGINAL-URL:http://www.smd-konstanz.de
X-WR-CALDESC:Veranstaltungen für SMD Konstanz
BEGIN:VTIMEZONE
TZID:Europe/Berlin
BEGIN:DAYLIGHT
TZOFFSETFROM:+0100
TZOFFSETTO:+0200
TZNAME:CEST
DTSTART:20240331T010000
END:DAYLIGHT
BEGIN:STANDARD
TZOFFSETFROM:+0200
TZOFFSETTO:+0100
TZNAME:CET
DTSTART:20241027T010000
END:STANDARD
END:VTIMEZONE
BEGIN:VEVENT
DTSTART;VALUE=DATE:20240113
DTEND;VALUE=DATE:20240114
DTSTAMP:20260422T125456
CREATED:20231025T154032Z
LAST-MODIFIED:20231025T154032Z
UID:2048-1705104000-1705190399@www.smd-konstanz.de
SUMMARY:Schneeausfahrt
DESCRIPTION:
URL:http://www.smd-konstanz.de/event/schneeausfahrt-3/
END:VEVENT
END:VCALENDAR